BEGIN:VCALENDAR
VERSION:2.0
PRODID:-//CERJ - ECPv6.15.11//NONSGML v1.0//EN
CALSCALE:GREGORIAN
METHOD:PUBLISH
X-ORIGINAL-URL:https://cerj.net
X-WR-CALDESC:Eventos para CERJ
REFRESH-INTERVAL;VALUE=DURATION:PT1H
X-Robots-Tag:noindex
X-PUBLISHED-TTL:PT1H
BEGIN:VTIMEZONE
TZID:Europe/Madrid
BEGIN:DAYLIGHT
TZOFFSETFROM:+0100
TZOFFSETTO:+0200
TZNAME:CEST
DTSTART:20230326T010000
END:DAYLIGHT
BEGIN:STANDARD
TZOFFSETFROM:+0200
TZOFFSETTO:+0100
TZNAME:CET
DTSTART:20231029T010000
END:STANDARD
BEGIN:DAYLIGHT
TZOFFSETFROM:+0100
TZOFFSETTO:+0200
TZNAME:CEST
DTSTART:20240331T010000
END:DAYLIGHT
BEGIN:STANDARD
TZOFFSETFROM:+0200
TZOFFSETTO:+0100
TZNAME:CET
DTSTART:20241027T010000
END:STANDARD
BEGIN:DAYLIGHT
TZOFFSETFROM:+0100
TZOFFSETTO:+0200
TZNAME:CEST
DTSTART:20250330T010000
END:DAYLIGHT
BEGIN:STANDARD
TZOFFSETFROM:+0200
TZOFFSETTO:+0100
TZNAME:CET
DTSTART:20251026T010000
END:STANDARD
END:VTIMEZONE
BEGIN:VEVENT
DTSTART;TZID=Europe/Madrid:20240529T153000
DTEND;TZID=Europe/Madrid:20240529T173000
DTSTAMP:20260424T193826
CREATED:20240513T135233Z
LAST-MODIFIED:20240513T135233Z
UID:10000003-1716996600-1717003800@cerj.net
SUMMARY:¿Es legal el uso de datos biométricos para el registro de la jornada laboral?
DESCRIPTION:
URL:https://cerj.net/event/es-legal-el-uso-de-datos-biometricos-para-el-registro-de-la-jornada-laboral/
CATEGORIES:Webinar
ATTACH;FMTTYPE=image/png:https://cerj.net/wp-content/uploads/2024/05/Agenda-CheckingPlan-Cuadrado-1.png
END:VEVENT
END:VCALENDAR